BEGIN:VCALENDAR
VERSION:2.0
PRODID:-//ChamberMaster//Event Calendar 2.0//EN
METHOD:PUBLISH
X-PUBLISHED-TTL:P3D
REFRESH-INTERVAL:P3D
CALSCALE:GREGORIAN
BEGIN:VEVENT
DTSTART:20060925T050000Z
DTEND:20060925T050000Z
X-MICROSOFT-CDO-ALLDAYEVENT:FALSE
SUMMARY:2006 Louisiana Energy Golf Classic
DESCRIPTION:
X-ALT-DESC;FMTTYPE=text/html:
LOCATION:
UID:e.9144.27
SEQUENCE:3
DTSTAMP:20260420T200957Z
URL:http://louisianaoilandgas.memberzone.com/events/details/2006-louisiana-energy-golf-classic-09-25-2006-27
END:VEVENT

END:VCALENDAR
