BEGIN:VCALENDAR
VERSION:2.0
PRODID:-//ChamberMaster//Event Calendar 2.0//EN
METHOD:PUBLISH
X-PUBLISHED-TTL:P3D
REFRESH-INTERVAL:P3D
CALSCALE:GREGORIAN
BEGIN:VEVENT
DTSTART:20071022T050000Z
DTEND:20071022T050000Z
X-MICROSOFT-CDO-ALLDAYEVENT:FALSE
SUMMARY:2007 LAGCOE Open
DESCRIPTION:GOLFER SPOTS SOLD OUT!!SPONSORSHIPS TO THE LEFT STILL AVAILABLE.\n\nThe LAGCOE Week will start with the 1st Annual LAGCOE Open Golf Tournament at Oakbourne Country Club in Lafayette\, LA.  Registration begins at 6:45 AM - 1st Shotgun is at 7:15 AM - 2nd Shotgun is at 1:00 PM - Awards Presentation at 7:00 PM at LaFondas.
X-ALT-DESC;FMTTYPE=text/html:GOLFER SPOTS SOLD OUT!!SPONSORSHIPS TO THE LEFT STILL AVAILABLE.\n\nThe LAGCOE Week will start with the 1st Annual LAGCOE Open Golf Tournament at Oakbourne Country Club in Lafayette\, LA.  Registration begins at 6:45 AM - 1st Shotgun is at 7:15 AM - 2nd Shotgun is at 1:00 PM - Awards Presentation at 7:00 PM at LaFondas.
LOCATION:
UID:e.9144.21
SEQUENCE:3
DTSTAMP:20260420T102713Z
URL:http://louisianaoilandgas.memberzone.com/events/details/2007-lagcoe-open-10-22-2007-21
END:VEVENT

END:VCALENDAR
