BEGIN:VCALENDAR
VERSION:2.0
PRODID:-//ChamberMaster//Event Calendar 2.0//EN
METHOD:PUBLISH
X-PUBLISHED-TTL:P3D
REFRESH-INTERVAL:P3D
CALSCALE:GREGORIAN
BEGIN:VEVENT
DTSTART;VALUE=DATE:20261102
DTEND;VALUE=DATE:20261103
TRANSP:TRANSPARENT
X-MICROSOFT-CDO-ALLDAYEVENT:TRUE
SUMMARY:Louisiana Energy Golf Open 2026
DESCRIPTION:Louisiana Energy Golf Open is a great way to reach oil and gas professionals in the Gulf Coast area while enjoying championship greens and fine course cuisine. Tournament proceeds will be used for LOGA's PACs and support a successful future for Louisiana's oil and gas industry. Your sponsorship recognition will be visible way beyond the greens with the reach of LOGA's statewide network. \n\n \n\n*All LEGO proceeds are for the benefit of LOGA's affiliated Political Action Committees.  Political contributions are not tax deductible.
X-ALT-DESC;FMTTYPE=text/html:<span style="font-size:12px\;"><span style="color:dimgray\;"><span style="font-family:montserrat\;">Louisiana Energy Golf Open is a great way to reach oil and gas professionals in the Gulf Coast area while enjoying championship greens and fine course cuisine. Tournament proceeds will be used for LOGA&rsquo\;s PACs and support a successful future for Louisiana&rsquo\;s oil and gas industry. Your sponsorship recognition will be visible way beyond the greens with the reach of LOGA&rsquo\;s statewide network. </span></span><br />\n&nbsp\;<br />\n<span style="color:dimgray\;"><span style="font-family:montserrat\;">*All LEGO proceeds are for the benefit of LOGA&#39\;s affiliated Political Action Committees.&nbsp\; Political contributions are not tax deductible</span></span>.</span>
LOCATION:OAKBOURNE COUNTRY CLUB LAFAYETTE\, LA
UID:e.9144.224
SEQUENCE:3
DTSTAMP:20260421T091847Z
URL:http://louisianaoilandgas.memberzone.com/events/details/louisiana-energy-golf-open-2026-224
END:VEVENT

END:VCALENDAR
